BEGIN:VCALENDAR
VERSION:2.0
PRODID:-//Northern Utah Alcoholics Anonymous - ECPv6.15.11//NONSGML v1.0//EN
CALSCALE:GREGORIAN
METHOD:PUBLISH
X-WR-CALNAME:Northern Utah Alcoholics Anonymous
X-ORIGINAL-URL:https://northernutahaa.org
X-WR-CALDESC:Events for Northern Utah Alcoholics Anonymous
REFRESH-INTERVAL;VALUE=DURATION:PT1H
X-Robots-Tag:noindex
X-PUBLISHED-TTL:PT1H
BEGIN:VTIMEZONE
TZID:America/Denver
BEGIN:DAYLIGHT
TZOFFSETFROM:-0700
TZOFFSETTO:-0600
TZNAME:MDT
DTSTART:20210314T090000
END:DAYLIGHT
BEGIN:STANDARD
TZOFFSETFROM:-0600
TZOFFSETTO:-0700
TZNAME:MST
DTSTART:20211107T080000
END:STANDARD
BEGIN:DAYLIGHT
TZOFFSETFROM:-0700
TZOFFSETTO:-0600
TZNAME:MDT
DTSTART:20220313T090000
END:DAYLIGHT
BEGIN:STANDARD
TZOFFSETFROM:-0600
TZOFFSETTO:-0700
TZNAME:MST
DTSTART:20221106T080000
END:STANDARD
BEGIN:DAYLIGHT
TZOFFSETFROM:-0700
TZOFFSETTO:-0600
TZNAME:MDT
DTSTART:20230312T090000
END:DAYLIGHT
BEGIN:STANDARD
TZOFFSETFROM:-0600
TZOFFSETTO:-0700
TZNAME:MST
DTSTART:20231105T080000
END:STANDARD
END:VTIMEZONE
BEGIN:VEVENT
DTSTART;TZID=America/Denver:20220208T190000
DTEND;TZID=America/Denver:20220208T200000
DTSTAMP:20260419T191456
CREATED:20220115T210851Z
LAST-MODIFIED:20220115T210851Z
UID:2116-1644346800-1644350400@northernutahaa.org
SUMMARY:District One GSR Meeting
DESCRIPTION:
URL:https://northernutahaa.org/event/district-one-gsr-meeting-21/
LOCATION:Boys & Girls Club of Northern Utah\, 550 S. Main St.\, Brigham City\, UT\, 84302\, United States
END:VEVENT
BEGIN:VEVENT
DTSTART;TZID=America/Denver:20220209T183000
DTEND;TZID=America/Denver:20220209T193000
DTSTAMP:20260419T191456
CREATED:20220115T211313Z
LAST-MODIFIED:20220115T211313Z
UID:2118-1644431400-1644435000@northernutahaa.org
SUMMARY:District 11 GSR Meeting
DESCRIPTION:
URL:https://northernutahaa.org/event/district-11-gsr-meeting-27/
LOCATION:Episcopal Church-Ressurectio\, 1131 S. Main St\, Centerville\, UT\, United States
END:VEVENT
BEGIN:VEVENT
DTSTART;TZID=America/Denver:20220219T140000
DTEND;TZID=America/Denver:20220219T160000
DTSTAMP:20260419T191456
CREATED:20220115T212031Z
LAST-MODIFIED:20220115T212536Z
UID:2123-1645279200-1645286400@northernutahaa.org
SUMMARY:District 11 Traditions Workshop
DESCRIPTION:Lunch provided by District 11 \n  \nZERO dollars to attend!
URL:https://northernutahaa.org/event/district-11-traditions-workshop/
LOCATION:South Davis Recovery Club\, 25 N. 200 W\,\, Bountiful\, UT\, 84010\, United States
END:VEVENT
BEGIN:VEVENT
DTSTART;TZID=America/Denver:20220226T120000
DTEND;TZID=America/Denver:20220226T150000
DTSTAMP:20260419T191456
CREATED:20220115T213019Z
LAST-MODIFIED:20220115T213046Z
UID:2125-1645876800-1645887600@northernutahaa.org
SUMMARY:Chilly Chile Cook Out
DESCRIPTION:Up Line Creek Road \nOff Morgan Valley Drive between Morgan and Peterson \n$3 suggested donation
URL:https://northernutahaa.org/event/chilly-chile-cook-out/
LOCATION:Jensen Pavilion\, 2425 Line Creek Road\, Morgan\, UT\, United States
END:VEVENT
END:VCALENDAR