BEGIN:VCALENDAR
VERSION:2.0
PRODID:-//Northern Utah Alcoholics Anonymous - ECPv6.15.11//NONSGML v1.0//EN
CALSCALE:GREGORIAN
METHOD:PUBLISH
X-ORIGINAL-URL:https://northernutahaa.org
X-WR-CALDESC:Events for Northern Utah Alcoholics Anonymous
REFRESH-INTERVAL;VALUE=DURATION:PT1H
X-Robots-Tag:noindex
X-PUBLISHED-TTL:PT1H
BEGIN:VTIMEZONE
TZID:America/Denver
BEGIN:DAYLIGHT
TZOFFSETFROM:-0700
TZOFFSETTO:-0600
TZNAME:MDT
DTSTART:20200308T090000
END:DAYLIGHT
BEGIN:STANDARD
TZOFFSETFROM:-0600
TZOFFSETTO:-0700
TZNAME:MST
DTSTART:20201101T080000
END:STANDARD
BEGIN:DAYLIGHT
TZOFFSETFROM:-0700
TZOFFSETTO:-0600
TZNAME:MDT
DTSTART:20210314T090000
END:DAYLIGHT
BEGIN:STANDARD
TZOFFSETFROM:-0600
TZOFFSETTO:-0700
TZNAME:MST
DTSTART:20211107T080000
END:STANDARD
BEGIN:DAYLIGHT
TZOFFSETFROM:-0700
TZOFFSETTO:-0600
TZNAME:MDT
DTSTART:20220313T090000
END:DAYLIGHT
BEGIN:STANDARD
TZOFFSETFROM:-0600
TZOFFSETTO:-0700
TZNAME:MST
DTSTART:20221106T080000
END:STANDARD
END:VTIMEZONE
BEGIN:VEVENT
DTSTART;TZID=America/Denver:20210908T183000
DTEND;TZID=America/Denver:20210908T193000
DTSTAMP:20260419T100547
CREATED:20210907T213911Z
LAST-MODIFIED:20210907T213911Z
UID:1996-1631125800-1631129400@northernutahaa.org
SUMMARY:District 11 GSR Meeting
DESCRIPTION:
URL:https://northernutahaa.org/event/district-11-gsr-meeting-24/
LOCATION:South Davis Recovery Club\, 25 N. 200 W\,\, Bountiful\, UT\, 84010\, United States
END:VEVENT
BEGIN:VEVENT
DTSTART;TZID=America/Denver:20210914T190000
DTEND;TZID=America/Denver:20210914T200000
DTSTAMP:20260419T100547
CREATED:20210907T213959Z
LAST-MODIFIED:20210907T213959Z
UID:1998-1631646000-1631649600@northernutahaa.org
SUMMARY:District One GSR Meeting
DESCRIPTION:
URL:https://northernutahaa.org/event/district-one-gsr-meeting-18/
LOCATION:Boys & Girls Club of Northern Utah\, 550 S. Main St.\, Brigham City\, UT\, 84302\, United States
END:VEVENT
BEGIN:VEVENT
DTSTART;TZID=America/Denver:20210921T180000
DTEND;TZID=America/Denver:20210921T190000
DTSTAMP:20260419T100547
CREATED:20210907T214120Z
LAST-MODIFIED:20210907T214120Z
UID:2001-1632247200-1632250800@northernutahaa.org
SUMMARY:InterGroup Rep Meeting
DESCRIPTION:
URL:https://northernutahaa.org/event/intergroup-rep-meeting-2/
LOCATION:Central Office – Ogden\, 3480 Washington Blvd. #108\, Ogden\, UT\, 84401\, United States
END:VEVENT
BEGIN:VEVENT
DTSTART;TZID=America/Denver:20210924T173000
DTEND;TZID=America/Denver:20210926T120000
DTSTAMP:20260419T100547
CREATED:20210907T214846Z
LAST-MODIFIED:20210907T215123Z
UID:2003-1632504600-1632657600@northernutahaa.org
SUMMARY:Area 69 Fall Assembly
DESCRIPTION:Area 69 Fall Assembly 21
URL:https://northernutahaa.org/event/area-69-fall-assembly-2/
LOCATION:UT
END:VEVENT
END:VCALENDAR