BEGIN:VCALENDAR
VERSION:2.0
PRODID:-//Northern Utah Alcoholics Anonymous - ECPv6.15.11//NONSGML v1.0//EN
CALSCALE:GREGORIAN
METHOD:PUBLISH
X-ORIGINAL-URL:https://northernutahaa.org
X-WR-CALDESC:Events for Northern Utah Alcoholics Anonymous
REFRESH-INTERVAL;VALUE=DURATION:PT1H
X-Robots-Tag:noindex
X-PUBLISHED-TTL:PT1H
BEGIN:VTIMEZONE
TZID:America/Denver
BEGIN:DAYLIGHT
TZOFFSETFROM:-0700
TZOFFSETTO:-0600
TZNAME:MDT
DTSTART:20220313T090000
END:DAYLIGHT
BEGIN:STANDARD
TZOFFSETFROM:-0600
TZOFFSETTO:-0700
TZNAME:MST
DTSTART:20221106T080000
END:STANDARD
BEGIN:DAYLIGHT
TZOFFSETFROM:-0700
TZOFFSETTO:-0600
TZNAME:MDT
DTSTART:20230312T090000
END:DAYLIGHT
BEGIN:STANDARD
TZOFFSETFROM:-0600
TZOFFSETTO:-0700
TZNAME:MST
DTSTART:20231105T080000
END:STANDARD
BEGIN:DAYLIGHT
TZOFFSETFROM:-0700
TZOFFSETTO:-0600
TZNAME:MDT
DTSTART:20240310T090000
END:DAYLIGHT
BEGIN:STANDARD
TZOFFSETFROM:-0600
TZOFFSETTO:-0700
TZNAME:MST
DTSTART:20241103T080000
END:STANDARD
END:VTIMEZONE
BEGIN:VEVENT
DTSTART;TZID=America/Denver:20230815T180000
DTEND;TZID=America/Denver:20230815T190000
DTSTAMP:20260419T140203
CREATED:20230728T220013Z
LAST-MODIFIED:20230728T220013Z
UID:2553-1692122400-1692126000@northernutahaa.org
SUMMARY:Ogden IGR Meeting
DESCRIPTION:
URL:https://northernutahaa.org/event/ogden-igr-meeting-26/
LOCATION:Central Office – Ogden\, 3480 Washington Blvd. #108\, Ogden\, UT\, 84401\, United States
END:VEVENT
BEGIN:VEVENT
DTSTART;TZID=America/Denver:20230819T080000
DTEND;TZID=America/Denver:20230820T120000
DTSTAMP:20260419T140203
CREATED:20230728T220411Z
LAST-MODIFIED:20230728T220411Z
UID:2557-1692432000-1692532800@northernutahaa.org
SUMMARY:Area Pre-Assembly Workshop
DESCRIPTION:Theme “Unity\, Service\, Recovery” \n$15.00 Registration fee
URL:https://northernutahaa.org/event/area-pre-assembly-workshop/
LOCATION:Alano Club – Ogden\, 684 24th Street\, Ogden\, UT\, 84401\, United States
END:VEVENT
BEGIN:VEVENT
DTSTART;TZID=America/Denver:20230912T190000
DTEND;TZID=America/Denver:20230912T200000
DTSTAMP:20260419T140203
CREATED:20230728T220612Z
LAST-MODIFIED:20230728T220612Z
UID:2559-1694545200-1694548800@northernutahaa.org
SUMMARY:District One GSR Meeting
DESCRIPTION:
URL:https://northernutahaa.org/event/district-one-gsr-meeting-36/
LOCATION:Brigham City Alano Club\, 131 W Forest St\, Brigham City\, UT\, 84302\, United States
END:VEVENT
BEGIN:VEVENT
DTSTART;TZID=America/Denver:20230913T183000
DTEND;TZID=America/Denver:20230913T190000
DTSTAMP:20260419T140203
CREATED:20230728T220701Z
LAST-MODIFIED:20230728T220701Z
UID:2561-1694629800-1694631600@northernutahaa.org
SUMMARY:District 11 GSR Meeting
DESCRIPTION:
URL:https://northernutahaa.org/event/district-11-gsr-meeting-42/
LOCATION:Episcopal Church-Ressurectio\, 1131 S. Main St\, Centerville\, UT\, United States
END:VEVENT
BEGIN:VEVENT
DTSTART;TZID=America/Denver:20230919T180000
DTEND;TZID=America/Denver:20230919T190000
DTSTAMP:20260419T140203
CREATED:20230728T220835Z
LAST-MODIFIED:20230728T220835Z
UID:2563-1695146400-1695150000@northernutahaa.org
SUMMARY:Ogden IGR Meeting
DESCRIPTION:
URL:https://northernutahaa.org/event/ogden-igr-meeting-27/
LOCATION:Central Office – Ogden\, 3480 Washington Blvd. #108\, Ogden\, UT\, 84401\, United States
END:VEVENT
BEGIN:VEVENT
DTSTART;TZID=America/Denver:20230919T180000
DTEND;TZID=America/Denver:20230919T190000
DTSTAMP:20260419T140203
CREATED:20230728T220942Z
LAST-MODIFIED:20230728T220942Z
UID:2565-1695146400-1695150000@northernutahaa.org
SUMMARY:Steering Committee Meeting
DESCRIPTION:
URL:https://northernutahaa.org/event/steering-committee-meeting-5/
LOCATION:Central Office – Ogden\, 3480 Washington Blvd. #108\, Ogden\, UT\, 84401\, United States
END:VEVENT
END:VCALENDAR