BEGIN:VCALENDAR
VERSION:2.0
PRODID:-//Northern Utah Alcoholics Anonymous - ECPv6.15.11//NONSGML v1.0//EN
CALSCALE:GREGORIAN
METHOD:PUBLISH
X-WR-CALNAME:Northern Utah Alcoholics Anonymous
X-ORIGINAL-URL:https://northernutahaa.org
X-WR-CALDESC:Events for Northern Utah Alcoholics Anonymous
REFRESH-INTERVAL;VALUE=DURATION:PT1H
X-Robots-Tag:noindex
X-PUBLISHED-TTL:PT1H
BEGIN:VTIMEZONE
TZID:UTC
BEGIN:STANDARD
TZOFFSETFROM:+0000
TZOFFSETTO:+0000
TZNAME:UTC
DTSTART:20170101T000000
END:STANDARD
END:VTIMEZONE
BEGIN:VEVENT
DTSTART;TZID=UTC:20180629T080000
DTEND;TZID=UTC:20180701T170000
DTSTAMP:20260419T220944
CREATED:20180521T091249Z
LAST-MODIFIED:20180521T091305Z
UID:373-1530259200-1530464400@northernutahaa.org
SUMMARY:31st Annual Best Dam Camp-Out
DESCRIPTION:Check out the event flyer … \nBest Dam Campout \nHosted by the Tuesday Morgan Group
URL:https://northernutahaa.org/event/31st-annual-best-dam-camp-out/
LOCATION:Pine Canyon Road\, Croydon\, Utah
END:VEVENT
BEGIN:VEVENT
DTSTART;TZID=UTC:20180622T150000
DTEND;TZID=UTC:20180624T170000
DTSTAMP:20260419T220944
CREATED:20180521T023154Z
LAST-MODIFIED:20180521T024557Z
UID:318-1529679600-1529859600@northernutahaa.org
SUMMARY:2018 Pacific Northwest Conference
DESCRIPTION:Check out the flyer … \n2018PNCFlyer
URL:https://northernutahaa.org/event/2018-pacific-northwest-conference/
LOCATION:Wyndham Garden Boise Airport\, 3300 S Vista Ave\, Boise\, ID\, 83705\, United States
END:VEVENT
BEGIN:VEVENT
DTSTART;TZID=UTC:20180616T100000
DTEND;TZID=UTC:20180616T150000
DTSTAMP:20260419T220944
CREATED:20180521T025049Z
LAST-MODIFIED:20180521T030258Z
UID:332-1529143200-1529161200@northernutahaa.org
SUMMARY:Bridging the Gap
DESCRIPTION:Check out the event flyer … \nBridgingtheGap \nHosted by District 11 – Clearfield
URL:https://northernutahaa.org/event/bridging-the-gap/
LOCATION:Clearfield Community Church\, 525 East 200 South\, Clearfield\, Utah
END:VEVENT
END:VCALENDAR