BEGIN:VCALENDAR
VERSION:2.0
PRODID:-//Northern Utah Alcoholics Anonymous - ECPv6.15.11//NONSGML v1.0//EN
CALSCALE:GREGORIAN
METHOD:PUBLISH
X-ORIGINAL-URL:https://northernutahaa.org
X-WR-CALDESC:Events for Northern Utah Alcoholics Anonymous
REFRESH-INTERVAL;VALUE=DURATION:PT1H
X-Robots-Tag:noindex
X-PUBLISHED-TTL:PT1H
BEGIN:VTIMEZONE
TZID:America/Denver
BEGIN:DAYLIGHT
TZOFFSETFROM:-0700
TZOFFSETTO:-0600
TZNAME:MDT
DTSTART:20210314T090000
END:DAYLIGHT
BEGIN:STANDARD
TZOFFSETFROM:-0600
TZOFFSETTO:-0700
TZNAME:MST
DTSTART:20211107T080000
END:STANDARD
BEGIN:DAYLIGHT
TZOFFSETFROM:-0700
TZOFFSETTO:-0600
TZNAME:MDT
DTSTART:20220313T090000
END:DAYLIGHT
BEGIN:STANDARD
TZOFFSETFROM:-0600
TZOFFSETTO:-0700
TZNAME:MST
DTSTART:20221106T080000
END:STANDARD
BEGIN:DAYLIGHT
TZOFFSETFROM:-0700
TZOFFSETTO:-0600
TZNAME:MDT
DTSTART:20230312T090000
END:DAYLIGHT
BEGIN:STANDARD
TZOFFSETFROM:-0600
TZOFFSETTO:-0700
TZNAME:MST
DTSTART:20231105T080000
END:STANDARD
END:VTIMEZONE
BEGIN:VEVENT
DTSTART;TZID=America/Denver:20220226T120000
DTEND;TZID=America/Denver:20220226T150000
DTSTAMP:20260419T221818
CREATED:20220115T213019Z
LAST-MODIFIED:20220115T213046Z
UID:2125-1645876800-1645887600@northernutahaa.org
SUMMARY:Chilly Chile Cook Out
DESCRIPTION:Up Line Creek Road \nOff Morgan Valley Drive between Morgan and Peterson \n$3 suggested donation
URL:https://northernutahaa.org/event/chilly-chile-cook-out/
LOCATION:Jensen Pavilion\, 2425 Line Creek Road\, Morgan\, UT\, United States
END:VEVENT
END:VCALENDAR