BEGIN:VCALENDAR
VERSION:2.0
PRODID:-//Northern Utah Alcoholics Anonymous - ECPv6.15.11//NONSGML v1.0//EN
CALSCALE:GREGORIAN
METHOD:PUBLISH
X-ORIGINAL-URL:https://northernutahaa.org
X-WR-CALDESC:Events for Northern Utah Alcoholics Anonymous
REFRESH-INTERVAL;VALUE=DURATION:PT1H
X-Robots-Tag:noindex
X-PUBLISHED-TTL:PT1H
BEGIN:VTIMEZONE
TZID:America/Denver
BEGIN:DAYLIGHT
TZOFFSETFROM:-0700
TZOFFSETTO:-0600
TZNAME:MDT
DTSTART:20200308T090000
END:DAYLIGHT
BEGIN:STANDARD
TZOFFSETFROM:-0600
TZOFFSETTO:-0700
TZNAME:MST
DTSTART:20201101T080000
END:STANDARD
BEGIN:DAYLIGHT
TZOFFSETFROM:-0700
TZOFFSETTO:-0600
TZNAME:MDT
DTSTART:20210314T090000
END:DAYLIGHT
BEGIN:STANDARD
TZOFFSETFROM:-0600
TZOFFSETTO:-0700
TZNAME:MST
DTSTART:20211107T080000
END:STANDARD
BEGIN:DAYLIGHT
TZOFFSETFROM:-0700
TZOFFSETTO:-0600
TZNAME:MDT
DTSTART:20220313T090000
END:DAYLIGHT
BEGIN:STANDARD
TZOFFSETFROM:-0600
TZOFFSETTO:-0700
TZNAME:MST
DTSTART:20221106T080000
END:STANDARD
END:VTIMEZONE
BEGIN:VEVENT
DTSTART;TZID=America/Denver:20211125T070000
DTEND;TZID=America/Denver:20211125T210000
DTSTAMP:20260419T160638
CREATED:20211103T214854Z
LAST-MODIFIED:20211103T214854Z
UID:2051-1637823600-1637874000@northernutahaa.org
SUMMARY:Alano Club Thanksgiving "Meet-A-Thon"
DESCRIPTION:Meetings all day 7am to 9pm \nFood served at Noon \n 
URL:https://northernutahaa.org/event/alano-club-thanksgiving-meet-a-thon/
LOCATION:Alano Club – Ogden\, 684 24th Street\, Ogden\, UT\, 84401\, United States
END:VEVENT
END:VCALENDAR