BEGIN:VCALENDAR
VERSION:2.0
PRODID:-//Northern Utah Alcoholics Anonymous - ECPv6.15.11//NONSGML v1.0//EN
CALSCALE:GREGORIAN
METHOD:PUBLISH
X-WR-CALNAME:Northern Utah Alcoholics Anonymous
X-ORIGINAL-URL:https://northernutahaa.org
X-WR-CALDESC:Events for Northern Utah Alcoholics Anonymous
REFRESH-INTERVAL;VALUE=DURATION:PT1H
X-Robots-Tag:noindex
X-PUBLISHED-TTL:PT1H
BEGIN:VTIMEZONE
TZID:America/Denver
BEGIN:DAYLIGHT
TZOFFSETFROM:-0700
TZOFFSETTO:-0600
TZNAME:MDT
DTSTART:20200308T090000
END:DAYLIGHT
BEGIN:STANDARD
TZOFFSETFROM:-0600
TZOFFSETTO:-0700
TZNAME:MST
DTSTART:20201101T080000
END:STANDARD
BEGIN:DAYLIGHT
TZOFFSETFROM:-0700
TZOFFSETTO:-0600
TZNAME:MDT
DTSTART:20210314T090000
END:DAYLIGHT
BEGIN:STANDARD
TZOFFSETFROM:-0600
TZOFFSETTO:-0700
TZNAME:MST
DTSTART:20211107T080000
END:STANDARD
BEGIN:DAYLIGHT
TZOFFSETFROM:-0700
TZOFFSETTO:-0600
TZNAME:MDT
DTSTART:20220313T090000
END:DAYLIGHT
BEGIN:STANDARD
TZOFFSETFROM:-0600
TZOFFSETTO:-0700
TZNAME:MST
DTSTART:20221106T080000
END:STANDARD
END:VTIMEZONE
BEGIN:VEVENT
DTSTART;TZID=America/Denver:20211106T080000
DTEND;TZID=America/Denver:20211107T130000
DTSTAMP:20260419T143627
CREATED:20211030T182649Z
LAST-MODIFIED:20211030T182649Z
UID:2044-1636185600-1636290000@northernutahaa.org
SUMMARY:Area 69 Fall Workshop
DESCRIPTION:Zoom Room Number:  879 3198 3200 \nPasscode:  109417
URL:https://northernutahaa.org/event/area-69-fall-workshop-2/
LOCATION:Sons of the Utah Pioneers\, 3301 E Louise Ave\, Salt Lake City\, UT\, 84109\, United States
END:VEVENT
END:VCALENDAR